BEGIN:VCALENDAR
VERSION:2.0
PRODID:-//ExQ - ECPv6.15.20//NONSGML v1.0//EN
CALSCALE:GREGORIAN
METHOD:PUBLISH
X-WR-CALNAME:ExQ
X-ORIGINAL-URL:https://exqinfiniteknowhow.com
X-WR-CALDESC:Events for ExQ
REFRESH-INTERVAL;VALUE=DURATION:PT1H
X-Robots-Tag:noindex
X-PUBLISHED-TTL:PT1H
BEGIN:VTIMEZONE
TZID:America/New_York
BEGIN:DAYLIGHT
TZOFFSETFROM:-0500
TZOFFSETTO:-0400
TZNAME:EDT
DTSTART:20230312T070000
END:DAYLIGHT
BEGIN:STANDARD
TZOFFSETFROM:-0400
TZOFFSETTO:-0500
TZNAME:EST
DTSTART:20231105T060000
END:STANDARD
BEGIN:DAYLIGHT
TZOFFSETFROM:-0500
TZOFFSETTO:-0400
TZNAME:EDT
DTSTART:20240310T070000
END:DAYLIGHT
BEGIN:STANDARD
TZOFFSETFROM:-0400
TZOFFSETTO:-0500
TZNAME:EST
DTSTART:20241103T060000
END:STANDARD
BEGIN:DAYLIGHT
TZOFFSETFROM:-0500
TZOFFSETTO:-0400
TZNAME:EDT
DTSTART:20250309T070000
END:DAYLIGHT
BEGIN:STANDARD
TZOFFSETFROM:-0400
TZOFFSETTO:-0500
TZNAME:EST
DTSTART:20251102T060000
END:STANDARD
END:VTIMEZONE
BEGIN:VEVENT
DTSTART;VALUE=DATE:20241114
DTEND;VALUE=DATE:20241116
DTSTAMP:20260420T064945
CREATED:20240613T122255Z
LAST-MODIFIED:20240711T142648Z
UID:5816-1731542400-1731715199@exqinfiniteknowhow.com
SUMMARY:39th Annual Executive Function Conference
DESCRIPTION:Invited Speaker for the 39th Annual Executive Function Conference on November 14-15\, 2024 \nJoin Sucheta Kamath\, CEO & Founder\, ExQ® as the Invited Speaker for the 39th Annual Executive Function Conference on November 14-15\, 2024. Sucheta will speak on Empowering Every Student: Advancing Educational Equity with Executive Function Curriculum. \nWe’d love to spend some time with you at the conference\, share a cup of coffee to discuss how Georgia’s educational leaders are partnering with ExQ to implement Executive Function curriculum around the country and explore ways to bring ExQ’s innovative curriculum to your school or district to help build the Executive Function skills needed to succeed in school and in life! \n\n\n                \n                        \n							"*" indicates required fields \n                        					\n						Δ\n						\n						\n\n					\n                        NameThis field is for validation purposes and should be left unchanged.Name*\n                            \n                            \n                                                    \n                                                    First\n                                                \n                            \n                            \n                                                    \n                                                    Last\n                                                \n                            \n                        E-mail Address*\n                                \n                                    \n                                    Enter Email\n                                \n                                \n                                    \n                                    Confirm Email\n                                \n                                \n                            Phone NumberExtensionCity*State*Name of School*School District*Type of School*Type of School *PrivatePublicCharterOnlineSchool Level*School Level *Middle SchoolHigh SchoolOtherWhat's Your Role?*What's Your Role? *ParentTeacherAdministratorSchool Board MemberSLP (Speech Language Pathologist)Principal/HeadmasterCounselorPsychologistEvent PlannerIndustry FollowerSpecial Education TeacherMediaLearnerOtherHow many Students?*How many Students? *1-5051-100101-300301-500501-10001001+Focus of SchoolFocus of SchoolGeneralArtsSTEMSpecial NeedsGiftedOtherHow Urgent Is Your Need?How Urgent Is Your Need?Very UrgentModerately UrgentWe are conducting research on Executive Function training programsWe are requesting proposals from curriculum and training providersExQ respects your time and inbox!  Subscribe to ExQ updates and our team will send out emails periodically to keep you updated.  We appreciate your interest in ExQ.Opt-In\n								\n								Yes\, please! Sign me up.\n							By submitting\, you are agreeing to the Terms of Use and Privacy Policy. This field is hidden when viewing the formSubmission Page Title
URL:https://exqinfiniteknowhow.com/event/39th-annual-executive-function-conference/
LOCATION:Virtual
CATEGORIES:Invited Speaker
ATTACH;FMTTYPE=image/jpeg:https://exqinfiniteknowhow.com/wp-content/uploads/2024/06/EFConference39Annual.jpg
END:VEVENT
END:VCALENDAR