BEGIN:VCALENDAR
VERSION:2.0
PRODID:-//ExQ - ECPv6.15.20//NONSGML v1.0//EN
CALSCALE:GREGORIAN
METHOD:PUBLISH
X-WR-CALNAME:ExQ
X-ORIGINAL-URL:https://exqinfiniteknowhow.com
X-WR-CALDESC:Events for ExQ
REFRESH-INTERVAL;VALUE=DURATION:PT1H
X-Robots-Tag:noindex
X-PUBLISHED-TTL:PT1H
BEGIN:VTIMEZONE
TZID:America/New_York
BEGIN:DAYLIGHT
TZOFFSETFROM:-0500
TZOFFSETTO:-0400
TZNAME:EDT
DTSTART:20240310T070000
END:DAYLIGHT
BEGIN:STANDARD
TZOFFSETFROM:-0400
TZOFFSETTO:-0500
TZNAME:EST
DTSTART:20241103T060000
END:STANDARD
BEGIN:DAYLIGHT
TZOFFSETFROM:-0500
TZOFFSETTO:-0400
TZNAME:EDT
DTSTART:20250309T070000
END:DAYLIGHT
BEGIN:STANDARD
TZOFFSETFROM:-0400
TZOFFSETTO:-0500
TZNAME:EST
DTSTART:20251102T060000
END:STANDARD
BEGIN:DAYLIGHT
TZOFFSETFROM:-0500
TZOFFSETTO:-0400
TZNAME:EDT
DTSTART:20260308T070000
END:DAYLIGHT
BEGIN:STANDARD
TZOFFSETFROM:-0400
TZOFFSETTO:-0500
TZNAME:EST
DTSTART:20261101T060000
END:STANDARD
END:VTIMEZONE
BEGIN:VEVENT
DTSTART;VALUE=DATE:20250301
DTEND;VALUE=DATE:20250302
DTSTAMP:20260422T065627
CREATED:20250131T165032Z
LAST-MODIFIED:20250131T165324Z
UID:6184-1740787200-1740873599@exqinfiniteknowhow.com
SUMMARY:GSHA 2025 Annual Convention
DESCRIPTION:Invited Speaker for two sessions at the GSHA 2025 Annual Convention on March 1\, 2025\, in Atlanta\, GA. \nJoin Sucheta Kamath\, CEO & Founder\, ExQ® as the Invited Speaker for two sessions at the GSHA 2025 Annual Convention on March 1\, 2025\, in Atlanta\, GA. Sucheta will speak on “Innovative approach to caseload management: Executive Function Focus Group” with Co-Presenter Michelle Clevenger. As the large caseload size continues to plague school-based SLPs across the country\, they require new ideas to manage the unmanageable and continue to make an impactful difference. This presentation will discuss the delicate interplay between SLPs’ Executive Function around strategy recommendations and their clients’ Executive Function around motivational engagement plus strategy use that determines the pace and quality of transformative change. \nImmediately following that\, Join Sucheta as she shares her thought leadership on “Promoting Georgia’s Literacy Agenda: The Science of Learning versus the Science of Reading.” This presentation will discuss five evidence-based learning HOW to learn Executive Function strategies\, including task analysis\, error detection\, self-reflection\, and social-emotional regulation to grow self-aware and strategic readers. \nWe’d love to spend some time with you at the conference\, share a cup of coffee to discuss how Georgia’s educational leaders are partnering with ExQ to implement Executive Function curriculum around the country\, and explore ways to bring ExQ’s innovative curriculum to your school or district to help build the Executive Function skills needed to succeed in school and in life! \n\n\n                \n                        \n							"*" indicates required fields \n                        					\n						Δ\n						\n						\n\n					\n                        CommentsThis field is for validation purposes and should be left unchanged.Name*\n                            \n                            \n                                                    \n                                                    First\n                                                \n                            \n                            \n                                                    \n                                                    Last\n                                                \n                            \n                        E-mail Address*\n                                \n                                    \n                                    Enter Email\n                                \n                                \n                                    \n                                    Confirm Email\n                                \n                                \n                            Phone NumberExtensionCity*State*Name of School*School District*Type of School*Type of School *PrivatePublicCharterOnlineSchool Level*School Level *Middle SchoolHigh SchoolOtherWhat's Your Role?*What's Your Role? *ParentTeacherAdministratorSchool Board MemberSLP (Speech Language Pathologist)Principal/HeadmasterCounselorPsychologistEvent PlannerIndustry FollowerSpecial Education TeacherMediaLearnerOtherHow many Students?*How many Students? *1-5051-100101-300301-500501-10001001+Focus of SchoolFocus of SchoolGeneralArtsSTEMSpecial NeedsGiftedOtherHow Urgent Is Your Need?How Urgent Is Your Need?Very UrgentModerately UrgentWe are conducting research on Executive Function training programsWe are requesting proposals from curriculum and training providersExQ respects your time and inbox!  Subscribe to ExQ updates and our team will send out emails periodically to keep you updated.  We appreciate your interest in ExQ.Opt-In\n								\n								Yes\, please! Sign me up.\n							By submitting\, you are agreeing to the Terms of Use and Privacy Policy. This field is hidden when viewing the formSubmission Page Title
URL:https://exqinfiniteknowhow.com/event/gsha-2025-annual-convention/
LOCATION:Mercer University in Atlanta\, GA\, 3001 Mercer University Dr\, Atlanta\, GA\, 30341\, United States
CATEGORIES:Invited Speaker
ATTACH;FMTTYPE=image/jpeg:https://exqinfiniteknowhow.com/wp-content/uploads/2025/01/GSHA2025Conf.jpg
END:VEVENT
BEGIN:VEVENT
DTSTART;VALUE=DATE:20250313
DTEND;VALUE=DATE:20250314
DTSTAMP:20260422T065627
CREATED:20250204T121041Z
LAST-MODIFIED:20250204T121041Z
UID:6195-1741824000-1741910399@exqinfiniteknowhow.com
SUMMARY:2025 North Carolina Speech\, Hearing\, and Language Association (NCSHLA) Convention
DESCRIPTION:Invited Speaker for the 2025 North Carolina Speech\, Hearing\, and Language Association (NCSHLA) Convention on March 13\, 2025\, in Cullowhee\, NC. \nJoin Sucheta Kamath\, CEO & Founder\, ExQ® as the Invited Speaker for 2025 North Carolina Speech\, Hearing\, and Language Association (NCSHLA) Convention on March 13\, 2025\, in Cullowhee\, NC. Sucheta will speak on “Emotional Agility in the Future-Self: Evidence-Based Executive Function Strategies for Children.” \nWe’d love to spend some time with you at the conference\, share a cup of coffee to discuss how Georgia’s educational leaders are partnering with ExQ to implement Executive Function curriculum around the country\, and explore ways to bring ExQ’s innovative curriculum to your school or district to help build the Executive Function skills needed to succeed in school and in life! \n\n                \n                        \n							"*" indicates required fields \n                        					\n						Δ\n						\n						\n\n					\n                        InstagramThis field is for validation purposes and should be left unchanged.Name*\n                            \n                            \n                                                    \n                                                    First\n                                                \n                            \n                            \n                                                    \n                                                    Last\n                                                \n                            \n                        E-mail Address*\n                                \n                                    \n                                    Enter Email\n                                \n                                \n                                    \n                                    Confirm Email\n                                \n                                \n                            Phone NumberExtensionCity*State*Name of School*School District*Type of School*Type of School *PrivatePublicCharterOnlineSchool Level*School Level *Middle SchoolHigh SchoolOtherWhat's Your Role?*What's Your Role? *ParentTeacherAdministratorSchool Board MemberSLP (Speech Language Pathologist)Principal/HeadmasterCounselorPsychologistEvent PlannerIndustry FollowerSpecial Education TeacherMediaLearnerOtherHow many Students?*How many Students? *1-5051-100101-300301-500501-10001001+Focus of SchoolFocus of SchoolGeneralArtsSTEMSpecial NeedsGiftedOtherHow Urgent Is Your Need?How Urgent Is Your Need?Very UrgentModerately UrgentWe are conducting research on Executive Function training programsWe are requesting proposals from curriculum and training providersExQ respects your time and inbox!  Subscribe to ExQ updates and our team will send out emails periodically to keep you updated.  We appreciate your interest in ExQ.Opt-In\n								\n								Yes\, please! Sign me up.\n							By submitting\, you are agreeing to the Terms of Use and Privacy Policy. This field is hidden when viewing the formSubmission Page Title
URL:https://exqinfiniteknowhow.com/event/2025-north-carolina-ncshla-convention/
LOCATION:Cullowhee\, Cullowhee\, NC\, United States
CATEGORIES:Invited Speaker
ATTACH;FMTTYPE=image/jpeg:https://exqinfiniteknowhow.com/wp-content/uploads/2025/02/NCSHLA2025Event.jpg
END:VEVENT
BEGIN:VEVENT
DTSTART;VALUE=DATE:20250320
DTEND;VALUE=DATE:20250321
DTSTAMP:20260422T065627
CREATED:20250204T120514Z
LAST-MODIFIED:20250204T120653Z
UID:6189-1742428800-1742515199@exqinfiniteknowhow.com
SUMMARY:PSHA 2025 Convention – Ripple Effect: Advancing Knowledge\, Inspiring Change
DESCRIPTION:Invited Speaker for the PSHA 2025 Convention on March 20\, 2025\, in Pittsburgh\, PA. \nJoin Sucheta Kamath\, CEO & Founder\, ExQ® as the Invited Speaker for two sessions at the PSHA 2025 Convention on March 20\, 2025\, in Pittsburgh\, PA. Sucheta will speak on “Emotional Agility in the Future-Self: Evidence-Based Executive Function Strategies.” \nWe’d love to spend some time with you at the conference\, share a cup of coffee to discuss how Georgia’s educational leaders are partnering with ExQ to implement Executive Function curriculum around the country\, and explore ways to bring ExQ’s innovative curriculum to your school or district to help build the Executive Function skills needed to succeed in school and in life! \n\n                \n                        \n							"*" indicates required fields \n                        					\n						Δ\n						\n						\n\n					\n                        CompanyThis field is for validation purposes and should be left unchanged.Name*\n                            \n                            \n                                                    \n                                                    First\n                                                \n                            \n                            \n                                                    \n                                                    Last\n                                                \n                            \n                        E-mail Address*\n                                \n                                    \n                                    Enter Email\n                                \n                                \n                                    \n                                    Confirm Email\n                                \n                                \n                            Phone NumberExtensionCity*State*Name of School*School District*Type of School*Type of School *PrivatePublicCharterOnlineSchool Level*School Level *Middle SchoolHigh SchoolOtherWhat's Your Role?*What's Your Role? *ParentTeacherAdministratorSchool Board MemberSLP (Speech Language Pathologist)Principal/HeadmasterCounselorPsychologistEvent PlannerIndustry FollowerSpecial Education TeacherMediaLearnerOtherHow many Students?*How many Students? *1-5051-100101-300301-500501-10001001+Focus of SchoolFocus of SchoolGeneralArtsSTEMSpecial NeedsGiftedOtherHow Urgent Is Your Need?How Urgent Is Your Need?Very UrgentModerately UrgentWe are conducting research on Executive Function training programsWe are requesting proposals from curriculum and training providersExQ respects your time and inbox!  Subscribe to ExQ updates and our team will send out emails periodically to keep you updated.  We appreciate your interest in ExQ.Opt-In\n								\n								Yes\, please! Sign me up.\n							By submitting\, you are agreeing to the Terms of Use and Privacy Policy. This field is hidden when viewing the formSubmission Page Title
URL:https://exqinfiniteknowhow.com/event/psha-2025-convention/
LOCATION:Pittsburgh\, Pittsburgh\, PA\, United States
CATEGORIES:Invited Speaker
ATTACH;FMTTYPE=image/jpeg:https://exqinfiniteknowhow.com/wp-content/uploads/2025/02/PSHA2025Event.jpg
END:VEVENT
BEGIN:VEVENT
DTSTART;VALUE=DATE:20250321
DTEND;VALUE=DATE:20250326
DTSTAMP:20260422T065627
CREATED:20250303T104910Z
LAST-MODIFIED:20250305T201159Z
UID:6216-1742515200-1742947199@exqinfiniteknowhow.com
SUMMARY:COSSBA 2025 National Conference
DESCRIPTION:Invited Speaker & Sponsor for the Consortium of State School Boards Associations (COSSBA) National Conference March 21-23\, 2025 \nJoin Sucheta Kamath\, CEO & Founder\, ExQ® as the Invited Speaker & Sponsor for the Consortium of State School Boards Associations (COSSBA) National Conference March 21-23\, 2025\, in Atlanta. Sucheta will speak on Destination 2035: Unveiling the Power and Promise of Executive Function to Prepare Future-Focused Learners. \nIn order to sustain a robust economy\, create thriving communities\, and build a hopeful society\, we need self-motivated and well-prepared learners ready to contribute strategically and flexibly to the world around them. Since excellence in the classroom begins with excellence in the boardroom\, discovering the role of Executive Function and its connection to the science of learning HOW to learn could empower school board members to achieve their mission to give every child the skills to succeed. \nJoin Sucheta Kamath\, the country’s leading expert in Executive Function\, and explore five specific ways addressing Executive Function can improve student achievement objectives in literacy\, college and career readiness\, and mental health and can enable school systems to fulfill their expanding role of effectively preparing children for the unknown future \n\n                \n                        \n							"*" indicates required fields \n                        					\n						Δ\n						\n						\n\n					\n                        NameThis field is for validation purposes and should be left unchanged.Name*\n                            \n                            \n                                                    \n                                                    First\n                                                \n                            \n                            \n                                                    \n                                                    Last\n                                                \n                            \n                        E-mail Address*\n                                \n                                    \n                                    Enter Email\n                                \n                                \n                                    \n                                    Confirm Email\n                                \n                                \n                            Phone NumberExtensionCity*State*Name of School*School District*Type of School*Type of School *PrivatePublicCharterOnlineSchool Level*School Level *Middle SchoolHigh SchoolOtherWhat's Your Role?*What's Your Role? *ParentTeacherAdministratorSchool Board MemberSLP (Speech Language Pathologist)Principal/HeadmasterCounselorPsychologistEvent PlannerIndustry FollowerSpecial Education TeacherMediaLearnerOtherHow many Students?*How many Students? *1-5051-100101-300301-500501-10001001+Focus of SchoolFocus of SchoolGeneralArtsSTEMSpecial NeedsGiftedOtherHow Urgent Is Your Need?How Urgent Is Your Need?Very UrgentModerately UrgentWe are conducting research on Executive Function training programsWe are requesting proposals from curriculum and training providersExQ respects your time and inbox!  Subscribe to ExQ updates and our team will send out emails periodically to keep you updated.  We appreciate your interest in ExQ.Opt-In\n								\n								Yes\, please! Sign me up.\n							By submitting\, you are agreeing to the Terms of Use and Privacy Policy. This field is hidden when viewing the formSubmission Page Title
URL:https://exqinfiniteknowhow.com/event/cossba-2025-national-conference/
LOCATION:Hilton Atlanta\, Address: 255 Courtland St NE\, Atlanta\, GA\, 30303\, United States
CATEGORIES:Invited Speaker
ATTACH;FMTTYPE=image/jpeg:https://exqinfiniteknowhow.com/wp-content/uploads/2025/03/COSSBA-National-Conference-2025.jpg
END:VEVENT
BEGIN:VEVENT
DTSTART;TZID=America/New_York:20250327T103000
DTEND;TZID=America/New_York:20250327T133000
DTSTAMP:20260422T065627
CREATED:20250326T144528Z
LAST-MODIFIED:20250603T131234Z
UID:6260-1743071400-1743082200@exqinfiniteknowhow.com
SUMMARY:Executive Function Day at the Georgia Capitol!
DESCRIPTION:Join us as we recognize and celebrate Executive Function Day in Georgia! \nWe’d love to have you help us celebrate the first JOINT celebration of Executive Function Day at the Georgia General Assembly! Join Sucheta Kamath\, Executive Function Specialist\, CEO & Founder\, ExQ and other educational and legislative leaders to recognize this milestone event! Executive Function Day at the Georgia Capitol will be recognized with a Resolution in the House of Representatives and a Resolution in the Senate to help raise awareness for the value and impact of teaching Executive Function. \nSign up to join us for the festivities to include: \nThursday\, March 27th\nGeorgia State Capitol\n332 State Capitol\, Atlanta\, GA 30334 \n10:00 Meet at the Georgia State Capitol\n10:30 – 11:00 Attend House of Representatives Session in the Gallery for Morning Order\n11:00 – 11:30 Attend Senate Session in the Gallery for Morning Order\n11:30 – 11:45 Group Photos\n11:45 – 1:30 Meet & Greet Reception \nParking Information: \nPublic parking is available in several locations surrounding the Capitol. Parking fees vary by lot. Certain lots may be closed due to the legislative session. The following lots are always open to the public if spaces are available: \n\nSteve Polk Plaza Parking is located on M.L. King\, Jr.\, Drive\, one block from the Capitol\nA surface lot is located on Memorial Drive\, one block from the Capitol\nUnderground Parking: A parking garage is located on the north side of Martin Luther King\, Jr. Drive\, two blocks from the Capitol\nCelebrate Executive Function Day at the Georgia Capitol and recognize:\n\nHouse Resolution 424: \n\nState of Georgia wants all students to reach their individual potential; and\nExisting research and cognitive science are the backbone for personalized learning; and\nLiteracy and numeracy are vital skills for academic success\, as research shows Executive Function is likely associated with reading comprehension through its relation with decoding and oral language and provides additional support for the role of Executive Function in reading comprehension as a potentially crucial precursor to skilled reading; and\nIn personalized learning\, educators must explicitly teach students the skills of Executive Function as the foundation before any other conditions for personalized learning can be effectively pursued; and\nExecutive Function is an umbrella term for the complex cognitive processes that serve ongoing\, goal-directed behaviors; and\nExecutive Function skills\, well established in cognitive science\, are also the foundational cognitive processes needed for the “soft skills\,” “essential skills\,” and “social emotional skills\,” students need for 21st century college\, career and community success; and\nThe skills of Executive Function (self-regulation\, emotional responsibility\, task completion\, working memory\, cognitive flexibility\, time management\, and reflection) are crucial to personalized learning and life-long learning; and\nExplicit teaching of Executive Function leads to self-awareness\, self-empowerment\, self-esteem\, and necessary learning skills to ensure student\, school\, and life success; and\nIt is abundantly fitting and proper to draw attention to the profound educational impact of Executive Function on the education and lives of children\, adults\, and students in the State of Georgia.\n\n\n                \n                        \n							"*" indicates required fields \n                        					\n						Δ\n						\n						\n\n					\n                        CompanyThis field is for validation purposes and should be left unchanged.Name*\n                            \n                            \n                                                    \n                                                    First\n                                                \n                            \n                            \n                                                    \n                                                    Last\n                                                \n                            \n                        E-mail Address*\n                                \n                                    \n                                    Enter Email\n                                \n                                \n                                    \n                                    Confirm Email\n                                \n                                \n                            Phone NumberExtensionCity*State*Name of School*School District*Type of School*Type of School *PrivatePublicCharterOnlineSchool Level*School Level *Middle SchoolHigh SchoolOtherWhat's Your Role?*What's Your Role? *ParentTeacherAdministratorSchool Board MemberSLP (Speech Language Pathologist)Principal/HeadmasterCounselorPsychologistEvent PlannerIndustry FollowerSpecial Education TeacherMediaLearnerOtherHow many Students?*How many Students? *1-5051-100101-300301-500501-10001001+Focus of SchoolFocus of SchoolGeneralArtsSTEMSpecial NeedsGiftedOtherHow Urgent Is Your Need?How Urgent Is Your Need?Very UrgentModerately UrgentWe are conducting research on Executive Function training programsWe are requesting proposals from curriculum and training providersExQ respects your time and inbox!  Subscribe to ExQ updates and our team will send out emails periodically to keep you updated.  We appreciate your interest in ExQ.Opt-In\n								\n								Yes\, please! Sign me up.\n							By submitting\, you are agreeing to the Terms of Use and Privacy Policy. This field is hidden when viewing the formSubmission Page Title
URL:https://exqinfiniteknowhow.com/event/executive-function-day/
LOCATION:Georgia House of Representatives\, 18 Capitol Sq SW\, Atlanta\, Atlanta\, 30334\, Georgia
CATEGORIES:Invited Speaker
ATTACH;FMTTYPE=image/jpeg:https://exqinfiniteknowhow.com/wp-content/uploads/2025/03/Executive-Function-Day-in-Georgia.jpeg
END:VEVENT
END:VCALENDAR