BEGIN:VCALENDAR
VERSION:2.0
PRODID:-//ExQ - ECPv6.15.20//NONSGML v1.0//EN
CALSCALE:GREGORIAN
METHOD:PUBLISH
X-WR-CALNAME:ExQ
X-ORIGINAL-URL:https://exqinfiniteknowhow.com
X-WR-CALDESC:Events for ExQ
REFRESH-INTERVAL;VALUE=DURATION:PT1H
X-Robots-Tag:noindex
X-PUBLISHED-TTL:PT1H
BEGIN:VTIMEZONE
TZID:America/New_York
BEGIN:DAYLIGHT
TZOFFSETFROM:-0500
TZOFFSETTO:-0400
TZNAME:EDT
DTSTART:20240310T070000
END:DAYLIGHT
BEGIN:STANDARD
TZOFFSETFROM:-0400
TZOFFSETTO:-0500
TZNAME:EST
DTSTART:20241103T060000
END:STANDARD
BEGIN:DAYLIGHT
TZOFFSETFROM:-0500
TZOFFSETTO:-0400
TZNAME:EDT
DTSTART:20250309T070000
END:DAYLIGHT
BEGIN:STANDARD
TZOFFSETFROM:-0400
TZOFFSETTO:-0500
TZNAME:EST
DTSTART:20251102T060000
END:STANDARD
BEGIN:DAYLIGHT
TZOFFSETFROM:-0500
TZOFFSETTO:-0400
TZNAME:EDT
DTSTART:20260308T070000
END:DAYLIGHT
BEGIN:STANDARD
TZOFFSETFROM:-0400
TZOFFSETTO:-0500
TZNAME:EST
DTSTART:20261101T060000
END:STANDARD
END:VTIMEZONE
BEGIN:VEVENT
DTSTART;TZID=America/New_York:20250415T123000
DTEND;TZID=America/New_York:20250415T163000
DTSTAMP:20260422T084646
CREATED:20250319T113747Z
LAST-MODIFIED:20250319T114713Z
UID:6249-1744720200-1744734600@exqinfiniteknowhow.com
SUMMARY:GLISI WIN (Women In Network) event before the 2025 GSSA Spring Bootstrap Conference
DESCRIPTION:ExQ is a Sponsor of the GLISI WIN (Women In Network) event before the 2025 GSSA Spring Bootstrap Conference \nPlans are set for Spring 2025 WIN (Women in Network) in Savannah\, where we’ll be gathering prior to GSSA’s Bootstrap Conference. \nTuesday\, April 15\, 2025\, from 12:30-4:30pm. \nWe will gather at the bottom of the escalator lobby at the Marriott Riverfront Hotel before heading to The Grove for lunch and networking. Following lunch we will move to the Davenport House museum to tour the home and Old Chan Magic exhibit. The trolley will return you to the Marriott Riverfront hotel at 4:30pm. \nAlong with our co-host\, GSSA\, and sponsors\, HMH Co\, Parrish Construction\, American Fidelity\, ExQ\, & Just Right Reader\, we look forward to creating space for connection\, mentorship and learning in Savannah! \n\n\n                \n                        \n							"*" indicates required fields \n                        					\n						Δ\n						\n						\n\n					\n                        PhoneThis field is for validation purposes and should be left unchanged.Name*\n                            \n                            \n                                                    \n                                                    First\n                                                \n                            \n                            \n                                                    \n                                                    Last\n                                                \n                            \n                        E-mail Address*\n                                \n                                    \n                                    Enter Email\n                                \n                                \n                                    \n                                    Confirm Email\n                                \n                                \n                            Phone Number*ExtensionCity*State*School District*Name of School*Type of School*Type of School *PrivatePublicCharterOnlineSchool Level*School Level *Middle SchoolHigh SchoolOtherWhat's Your Role?*What's Your Role? *ParentTeacherAdministratorSchool Board MemberSLP (Speech Language Pathologist)Principal/HeadmasterCounselorPsychologistEvent PlannerIndustry FollowerSpecial Education TeacherMediaLearnerOtherHow Many Students?*How Many Students? *1-5051-100101-300301-500501-10001001+ExQ respects your time and inbox!  Subscribe to ExQ updates and our team will send out emails periodically to keep you updated.  We appreciate your interest in ExQ.Opt-In\n								\n								Yes\, please! Sign me up.\n							By submitting\, you are agreeing to the Terms of Use and Privacy Policy. This field is hidden when viewing the formSubmission Page Title
URL:https://exqinfiniteknowhow.com/event/glisi-win-2/
LOCATION:Savannah\, GA\, Savannah\, GA\, United States
CATEGORIES:ExQ Sponsored
ATTACH;FMTTYPE=image/jpeg:https://exqinfiniteknowhow.com/wp-content/uploads/2025/03/GLISI-WIN-Spring2025.jpg
END:VEVENT
BEGIN:VEVENT
DTSTART;VALUE=DATE:20250416
DTEND;VALUE=DATE:20250418
DTSTAMP:20260422T084646
CREATED:20250319T114948Z
LAST-MODIFIED:20250319T114948Z
UID:6252-1744761600-1744934399@exqinfiniteknowhow.com
SUMMARY:2025 GSSA Spring Bootstrap Conference
DESCRIPTION:ExQ is a Silver Sponsor of the GSSA Spring Bootstrap Conference in Savannah\, GA on April 16-17\, 2025 \nJoin Sucheta Kamath\, CEO & Founder\, ExQ® as the Silver Sponsor of the Georgia School Superintendents Association (GSSA) Spring Bootstrap Conference in Savannah\, GA on April 16-17\, 2025. We look forward to meeting GSSA members and collaborating together about the value and importance of teaching our students Executive Function skills to improve reading\, writing\, math\, mental wellness and more. \nWe’d love to spend some time with you at the conference\, share a cup of coffee to discuss how Georgia’s educational leaders are partnering with ExQ to implement Executive Function curriculum around the country\, and explore ways to bring ExQ’s innovative curriculum to your school or district to help build the Executive Function skills needed to succeed in school and in life! \n\n                \n                        \n							"*" indicates required fields \n                        					\n						Δ\n						\n						\n\n					\n                        InstagramThis field is for validation purposes and should be left unchanged.Name*\n                            \n                            \n                                                    \n                                                    First\n                                                \n                            \n                            \n                                                    \n                                                    Last\n                                                \n                            \n                        E-mail Address*\n                                \n                                    \n                                    Enter Email\n                                \n                                \n                                    \n                                    Confirm Email\n                                \n                                \n                            Phone Number*ExtensionCity*State*School District*Name of School*Type of School*Type of School *PrivatePublicCharterOnlineSchool Level*School Level *Middle SchoolHigh SchoolOtherWhat's Your Role?*What's Your Role? *ParentTeacherAdministratorSchool Board MemberSLP (Speech Language Pathologist)Principal/HeadmasterCounselorPsychologistEvent PlannerIndustry FollowerSpecial Education TeacherMediaLearnerOtherHow Many Students?*How Many Students? *1-5051-100101-300301-500501-10001001+ExQ respects your time and inbox!  Subscribe to ExQ updates and our team will send out emails periodically to keep you updated.  We appreciate your interest in ExQ.Opt-In\n								\n								Yes\, please! Sign me up.\n							By submitting\, you are agreeing to the Terms of Use and Privacy Policy. This field is hidden when viewing the formSubmission Page Title
URL:https://exqinfiniteknowhow.com/event/2025-gssa-spring-bootstrap-conference/
LOCATION:Savannah\, GA\, Savannah\, GA\, United States
CATEGORIES:ExQ Sponsored
ATTACH;FMTTYPE=image/jpeg:https://exqinfiniteknowhow.com/wp-content/uploads/2025/03/GSSASpringBootstrap2025.jpg
END:VEVENT
END:VCALENDAR