BEGIN:VCALENDAR
VERSION:2.0
PRODID:-//ExQ - ECPv6.15.20//NONSGML v1.0//EN
CALSCALE:GREGORIAN
METHOD:PUBLISH
X-WR-CALNAME:ExQ
X-ORIGINAL-URL:https://exqinfiniteknowhow.com
X-WR-CALDESC:Events for ExQ
REFRESH-INTERVAL;VALUE=DURATION:PT1H
X-Robots-Tag:noindex
X-PUBLISHED-TTL:PT1H
BEGIN:VTIMEZONE
TZID:America/New_York
BEGIN:DAYLIGHT
TZOFFSETFROM:-0500
TZOFFSETTO:-0400
TZNAME:EDT
DTSTART:20240310T070000
END:DAYLIGHT
BEGIN:STANDARD
TZOFFSETFROM:-0400
TZOFFSETTO:-0500
TZNAME:EST
DTSTART:20241103T060000
END:STANDARD
BEGIN:DAYLIGHT
TZOFFSETFROM:-0500
TZOFFSETTO:-0400
TZNAME:EDT
DTSTART:20250309T070000
END:DAYLIGHT
BEGIN:STANDARD
TZOFFSETFROM:-0400
TZOFFSETTO:-0500
TZNAME:EST
DTSTART:20251102T060000
END:STANDARD
BEGIN:DAYLIGHT
TZOFFSETFROM:-0500
TZOFFSETTO:-0400
TZNAME:EDT
DTSTART:20260308T070000
END:DAYLIGHT
BEGIN:STANDARD
TZOFFSETFROM:-0400
TZOFFSETTO:-0500
TZNAME:EST
DTSTART:20261101T060000
END:STANDARD
END:VTIMEZONE
BEGIN:VEVENT
DTSTART;VALUE=DATE:20251109
DTEND;VALUE=DATE:20251112
DTSTAMP:20260422T155504
CREATED:20251015T121113Z
LAST-MODIFIED:20251218T113427Z
UID:6468-1762646400-1762905599@exqinfiniteknowhow.com
SUMMARY:GASSP Fall Conference 2025
DESCRIPTION:Join Sucheta Kammath\, CEO and Founder\, ExQ at the 2025 GASSP Fall Conference \nJoin Sucheta Kammath\, Ceo and Founder\, ExQ as Workshop Speaker and Conference Exhibitor at the 2025 GASSP Fall Conference at the Savannah Riverfront Marriott. \nDon’t miss Sucheta Kamath’s GASSP conference talk\, “Impact of Teaching Executive Function to Build Self-Control for Student Success\,” on Tuesday\, November11th from 9:00 to 9:55. \nWe’d love to spend some time with you at the conference\, share a cup of coffee to discuss how Georgia’s educational leaders are partnering with ExQ to implement Executive Function curriculum around the country and explore ways to bring ExQ’s innovative curriculum to your school or district to help build the Executive Function skills needed to succeed in school and in life! \n\n\n                \n                        \n							"*" indicates required fields \n                        					\n						Δ\n						\n						\n\n					\n                        URLThis field is for validation purposes and should be left unchanged.Name*\n                            \n                            \n                                                    \n                                                    First\n                                                \n                            \n                            \n                                                    \n                                                    Last\n                                                \n                            \n                        E-mail Address*\n                                \n                                    \n                                    Enter Email\n                                \n                                \n                                    \n                                    Confirm Email\n                                \n                                \n                            Phone NumberExtensionCity*State*Name of School*School District*Type of School*Type of School *PrivatePublicCharterOnlineSchool Level*School Level *Middle SchoolHigh SchoolOtherWhat's Your Role?*What's Your Role? *ParentTeacherAdministratorSchool Board MemberSLP (Speech Language Pathologist)Principal/HeadmasterCounselorPsychologistEvent PlannerIndustry FollowerSpecial Education TeacherMediaLearnerOtherHow many Students?*How many Students? *1-5051-100101-300301-500501-10001001+Focus of SchoolFocus of SchoolGeneralArtsSTEMSpecial NeedsGiftedOtherHow Urgent Is Your Need?How Urgent Is Your Need?Very UrgentModerately UrgentWe are conducting research on Executive Function training programsWe are requesting proposals from curriculum and training providersExQ respects your time and inbox!  Subscribe to ExQ updates and our team will send out emails periodically to keep you updated.  We appreciate your interest in ExQ.Opt-In\n								\n								Yes\, please! Sign me up.\n							By submitting\, you are agreeing to the Terms of Use and Privacy Policy. This field is hidden when viewing the formSubmission Page Title
URL:https://exqinfiniteknowhow.com/event/gassp-fall-conference-2025/
LOCATION:Savannah Marriott Riverfront\, 100 General McIntosh Blvd\, Savannah\, GA\, 31401\, United States
CATEGORIES:ExQ Speaking
ATTACH;FMTTYPE=image/jpeg:https://exqinfiniteknowhow.com/wp-content/uploads/2025/10/GASSP-Fall-Conference-2025.jpg
END:VEVENT
BEGIN:VEVENT
DTSTART;VALUE=DATE:20251120
DTEND;VALUE=DATE:20251123
DTSTAMP:20260422T155504
CREATED:20250718T144344Z
LAST-MODIFIED:20250729T111940Z
UID:6357-1763596800-1763855999@exqinfiniteknowhow.com
SUMMARY:ASHA 2025 Annual Conference
DESCRIPTION:Invited Speaker for ASHA’s 2024 Annual Conference\, November 20-22\, 2025\, in Washington\, DC. \nJoin Sucheta Kamath\, CEO & Founder\, ExQ®\, as the invited speaker for ASHA’s 2025 Annual Conference\, November 20-22\, 2025\, in Washington\, DC. Sucheta will present on Applying Motivational Science to SLP Practices to improve engagement\, follow through\, and Executive Function. In a separate presentation at the conference\, Sucheta will speak on A Million Dollar Vision: Turning Impact into Wealth. \nWe’d love to spend some time with you at the conference\, share a cup of coffee to discuss how Georgia’s educational leaders are partnering with ExQ to implement Executive Function curriculum around the country and explore ways to bring ExQ’s innovative curriculum to your practice\, school or district to help build the Executive Function skills needed to succeed in school and life! \n\n                \n                        \n							"*" indicates required fields \n                        					\n						Δ\n						\n						\n\n					\n                        CommentsThis field is for validation purposes and should be left unchanged.Name*\n                            \n                            \n                                                    \n                                                    First\n                                                \n                            \n                            \n                                                    \n                                                    Last\n                                                \n                            \n                        E-mail Address*\n                                \n                                    \n                                    Enter Email\n                                \n                                \n                                    \n                                    Confirm Email\n                                \n                                \n                            Phone NumberExtensionCity*State*Name of School*School District*Type of School*Type of School *PrivatePublicCharterOnlineSchool Level*School Level *Middle SchoolHigh SchoolOtherWhat's Your Role?*What's Your Role? *ParentTeacherAdministratorSchool Board MemberSLP (Speech Language Pathologist)Principal/HeadmasterCounselorPsychologistEvent PlannerIndustry FollowerSpecial Education TeacherMediaLearnerOtherHow many Students?*How many Students? *1-5051-100101-300301-500501-10001001+Focus of SchoolFocus of SchoolGeneralArtsSTEMSpecial NeedsGiftedOtherHow Urgent Is Your Need?How Urgent Is Your Need?Very UrgentModerately UrgentWe are conducting research on Executive Function training programsWe are requesting proposals from curriculum and training providersExQ respects your time and inbox!  Subscribe to ExQ updates and our team will send out emails periodically to keep you updated.  We appreciate your interest in ExQ.Opt-In\n								\n								Yes\, please! Sign me up.\n							By submitting\, you are agreeing to the Terms of Use and Privacy Policy. This field is hidden when viewing the formSubmission Page Title
URL:https://exqinfiniteknowhow.com/event/asha-2025/
LOCATION:Washington\, DC\, Washington\, DC\, United States
CATEGORIES:ExQ Speaking
ATTACH;FMTTYPE=image/jpeg:https://exqinfiniteknowhow.com/wp-content/uploads/2025/07/ASHA2025Conf2.jpg
END:VEVENT
END:VCALENDAR